Workbook
Name Best_deal: #REF!
Name Best_deal: #REF!
Name Best_deal: #REF!
Name Best_deal: #REF!
Name Best_deal: #REF!
Name KIF조합수익률: #REF!
Name KIF조합수익률: #REF!
Name KIF조합수익률: #REF!
Name KIF조합수익률: #REF!
Name KOSPI: #REF!
Name KOSPI: #REF!
Name KOSPI: #REF!
Name KOSPI: #REF!
Name KOSPI: #REF!
Name KOSPI: #REF!
Name KOSPI: #REF!
Name KOSPI: #REF!
Name KOSPI: #REF!
Name KOSPI: #REF!
Name KOSPI: #REF!
Name KOSPI: #REF!
Name KOSPI: #REF!
Name Team_Competency: #REF!
Name Team_Competency: #REF!
Name Team_Competency: #REF!
Name Team_Competency: #REF!
Name Team_Competency: #REF!
Name YESNO: #REF!
Name YESNO: #REF!
Name YESNO: #REF!
Name YESNO: #REF!
Name YESNO: #REF!
Name YESNO: #REF!
Name YESNO: #REF!
Name YESNO: #REF!
Name YESNO: #REF!
Name YESNO: #REF!
Name YESNO: #REF!
Name YESNO: #REF!
Name YESNO: #REF!
Name YESNO: #REF!
Name 운용중인펀드: #REF!
Name 운용중인펀드: #REF!
Name 운용중인펀드: #REF!
Name 운용중인펀드: #REF!
Name 운용중인펀드: #REF!
Name 핵심운용인력유지율: #REF!
Name 핵심운용인력유지율: #REF!

Sheet 콤보박스
A1: 유예기간부여 | B1: 바이오 | C1: 확약
A2: 주의촉구 | B2: 게임 | C2: 미정
A3: 시정명령 | B3: ICT제조
A4: 경고 | B4: ICT서비스
A5: 경영개선명령 | B5: 콘텐츠(교육 포함)
A6: 기타
A9: 대표펀드매니저
A10: 핵심운용인력
A13: 대표펀드매니저
A14: 핵심운용인력
A15: 심사역
A16: 기타
C18: ICT융복합
A19: 신기술사업투자조합 | C19: M&A / 세컨더리
A20: 중소기업창업투자조합 | C20: K-Global Start-up
A21: 한국벤처투자조합
A22: 부품소재전문투자조합
A23: 기업구조조정조합
A24: 기업구조조정증권투자회사
A25: 기업구조조정투자회사 | C25: 발굴
A26: 농식품투자조합 | C26: 발굴+심사
A27: 외국집합투자기구 | C27: 발굴+심사+사후관리
C28: 심사
C29: 심사+사후관리
C30: 사후관리
C31: 대펀(총괄)
A32: IPO
A33: 코넥스
A34: M&A
A35: SPAC상장

Sheet 작성안내
C3: □ 작성 Sheet 목록
C4: 표지
C5: 1-0. 결성규모
C6: 1-1. 재무안정성
C7: 1-2. 준법성(위법사례)
C8: 1-3. 핵심운용인력 관리현황
C9: 1-4. 조합 결성내역
C10: 2-1. IPO 및 M&A 건수
C11: 2-2. 청산펀드 총괄
C12: 2-2-1. 청산펀드 세부내역
C13: 2-3. 운용중인 펀드 총괄
C14: 2-3-1. 운용중인 펀드 세부내역
... C33: 13. 본 엑셀 화일명은 "2016 계량자료 제출_제안사명_제안분야" 로 표기

Sheet 표지
A2: 2016년도 KIF 자펀드 업무집행조합원 선정 계량자료
B4: 제안사명 | D4: xxx 운용사
B5: 제안분야 | D5: M&A / 세컨더리
B6: 대표펀드매니저 | D6: O O O
B7: 작성책임자 | C7: 성 명 | D7: O O O
C8: 연락처 | D8: 010-xxxx-xxxx
A10: * 본 자료에 허위사실 또는 중대한 오류가 발견되거나 고의적으로 자료를 누락한 것이 발견된 경우에는
A11: 선정취소 및 향후 출자 사업 참여제한, 손해배상 등이 있을 수 있음
E13: KIF 투자조합

Sheet 1-0.결성규모
B2: 제안사명 | C2: =표지!$D$4 -> xxx 운용사 | D2: 작성항목 | E2: 1-0. 결성규모
B4: <작성방식>
B5: ■ KIF 출자약정액 :M&A/세컨더리(170억원)
B6: ■ 업무집행조합원 출자약정액 : 약정총액의 1% 이상
B7: ■ 확약여부 : 출자 확약서가 있는 경우에만 "확약" 으로 표시
B8: ■ 금액은 백만원단위로 기재하되, 백만원 이하금액도 소수점 이하로 입력 (예 : 12,345,678,912원의 경우, 12,345.678912백만원으로 입력)
F10: (단위: 백만원, %)
B11: 출자자명 | C11: 출자약정액 | D11: 출자비율 | E11: 확약여부 | F11: 비고
B12: KIF투자조합 | C12: 17000 | D12: =C12/C18 -> 0.56666667 | E12: 확약
B13: 업무집행조합원 | C13: 300 | D13: =C13/C18 -> 0.01 | E13: 확약
B14: LP1 | C14: 12700 | D14: =C14/C18 -> 0.42333333 | E14: 미정
B15: LP2
B16: LP3
B17: LP4
B18: 합 계 | C18: =SUM(C12:C17) -> 30000 | D18: =SUM(D12:D17) -> 1
B20: KIF 출자약정액 | C20: 기타 출자자 약정액 | D20: 약정총액 | E20: KIF 매칭비율 | F20: 기타출자자/KIF 매칭비율
B21: =C12 -> 17000 | C21: =C18-B21 -> 13000 | D21: =SUM(B21:C21) -> 30000 | E21: =B21/D21 -> 0.56666667 | F21: =C21/B21 -> 0.76470588

Sheet 1-1.재무안정성
B2: 제안사명 | C2: =표지!$D$4 -> xxx 운용사 | D2: 작성항목 | E2: 1-1. 재무안정성
B4: <작성방식>
B5: ■ 금액은 백만원단위로 기재하되, 백만원 이하금액도 소수점 이하로 입력 (예시 : 12,345,678,912원의 경우, 12,345.678912백만원으로 입력)
B6: ■ 산식변경 금지
F8: (단위: 백만원, %)
B9: 구 분 | C9: 2013 | D9: 2014 | E9: 2015 | F9: 비고
B10: 유동자산
B11: 유동부채
B12: 자산총계(A+B) | C12: =C14+C13 -> 0 | D12: =D14+D13 -> 0 | E12: =E14+E13 -> 0
B13: 부채총계(B)
B14: 자본총계(A)
B15: 영업수익
B16: 영업비용
B17: 당기순이익
B18: 영업수지율 (영업수익/영업비용) | C18: =C15/C16 -> #DIV/0! | D18: =D15/D16 -> #DIV/0! | E18: =E15/E16 -> #DIV/0!
B19: 자기자본순이익률 (당기순이익/자본총계) | C19: =C17/C14 -> #DIV/0! | D19: =D17/D14 -> #DIV/0! | E19: =E17/E14 -> #DIV/0!
B20: 부채비율 (부채총계/자본총계) | C20: =C13/C14 -> #DIV/0! | D20: =D13/D14 -> #DIV/0! | E20: =E13/E14 -> #DIV/0!
B21: 유동비율 (유동자산/유동부채) | C21: =C10/C11 -> #DIV/0! | D21: =D10/D11 -> #DIV/0! | E21: =E10/E11 -> #DIV/0!

Sheet 1-2.준법성
B2: 제안사명 | C2: =표지!$D$4 -> xxx 운용사 | D2: 작성항목 | E2: 1-2. 준법성(위법사례)
B4: <작성방식>
B5: ■ 대상기간 : 2014. 1. 1 ~ 2016. 9. 19 (공고일)
B6: ■ 운용사(임직원 및 기타 특수관계인 포함) 및 조합 운영 등과 관련된 위법사례에 대해 모두 기재(계류중인 민·형사건, 기사화된 건 등 포함)
B8: 조치구분 | C8: 시정명령일 | D8: 시정완료(예정)일 | E8: 위반내용 (구체적으로 기술)
B9: 경고 | C9: 36526 | D9: 36526
B10: 경영개선명령 | C10: 36526 | D10: 36526
C11: 36526 | D11: 36526
C12: 36526 | D12: 36526
C13: 36526 | D13: 36526
C14: 36526 | D14: 36526

Sheet 1-3.핵심운용인력 관리현황
B2: 제안사명 | C2: =표지!$D$4 -> xxx 운용사 | E2: 작성항목 | F2: 1-3. 핵심운용인력 관리현황
B4: <작성방식>
B5: ■ 대상기간 : 2011. 1. 1 ~ 2016. 9. 19 (공고일)
B6: ■ 대상기간 내에 운용 중인 혹은 청산한 펀드 전체를 기재하되, 2015. 9. 19 ~ 2016. 9. 19 사이에 신규 결성한 펀드는 제외
B7: ■ "펀드 설립시 핵심운용인력"은 최초 규약상 핵심운용인력으로 명기된 펀드 운용인력을 기재 (최초제안서, 최초규약, 재직증명서 등 증빙서류를 통해 검증 가능해야 함)
B8: ■ 투자기구는 창업투자조합, 한국벤처투자조합(KVF), 신기술사업투자조합, 기업구조조정투자(CRC) 등 관련 근거법령 상의 투자기구를 기입(콤보박스에 해당하는 투자기구만 기재)
O10: (단위: 백만원, 명)
B11: 구분 | C11: 투자기구 | D11: 펀드명 | E11: 성립일 | F11: 청산일 (or 예정일) | G11: 약정금액 | H11: 펀드 설립시(규약상) 핵심운용인력 | J11: 청산시(or 공고 전일)까지 유지된 핵심운용인력 | L11: 대펀변경여부 | N11: 운용인력 유지율 | O11: 변경사유
H12: 성명 | I12: 인원수 | J12: 성명 | K12: 인원수 | L12: 투자기간내 | M12: 투자기간후
B13: 청산펀드 | D13: Fund 1호 | E13: 36526 | F13: 39813 | G13: 25000 | H13: 홍길동, OOO, XXX | I13: 3 | J13: 홍길동 | K13: 1 | M13: O | N13: =K13/I13 -> 0.33333333
B14: 청산펀드 | D14: Fund 2호 | E14: 36526 | F14: 39813 | G14: 25000 | N14: =K14/I14 -> #DIV/0!
B15: 청산펀드 | D15: Fund 3호 | E15: 36526 | F15: 청산중 | G15: 25000 | N15: =K15/I15 -> #DIV/0!
B16: 청산펀드 | D16: Fund 4호 | E16: 36526 | F16: 만기연장 | G16: 25000 | N16: =K16/I16 -> #DIV/0!
B17: 운용중펀드 | D17: Fund 5호 | E17: 36526 | F17: 39813 | G17: 25000 | N17: =K17/I17 -> #DIV/0!
B18: 운용중펀드 | D18: Fund 6호 | E18: 36526 | F18: 39813 | G18: 25000 | N18: =K18/I18 -> #DIV/0!
B19: 운용중펀드 | D19: Fund 7호 | E19: 36526 | F19: 39813 | G19: 25000 | N19: =K19/I19 -> #DIV/0!
B29: 합계 | G29: =SUM(G13:G28) -> 175000 | N29: =SUMPRODUCT(G13:G27,N13:N27)/G29 -> #DIV/0!

Sheet 1-4.조합결성내역
B2: 제안사명 | C2: =표지!$D$4 -> xxx 운용사 | E2: 작성항목 | F2: 1-4. 조합 결성내역
B4: <작성방식>
B5: ■ 대상기간 : 2013. 1. 1 ~ 2016. 9. 19 (공고일)
B6: ■ 대상기간 내에 신규 결성한 조합 기재
H8: (단위: 백만원)
B9: 펀드명 | C9: 투자기구 | D9: 성립일 | E9: 결성금액 | F9: LP | G9: 중점투자분야 | H9: 핵심운용인력
B10: Fund 1호 | C10: 신기술사업투자조합 | D10: 36526 | E10: 30000 | F10: OOO, XXX | G10: 모바일 IT | H10: 홍길동, OOO, XXX
B11: Fund 2호 | C11: 신기술사업투자조합 | D11: 36526
B12: Fund 3호 | C12: 신기술사업투자조합 | D12: 36526
B13: Fund 4호 | C13: 한국벤처투자조합 | D13: 36526
B14: Fund 5호 | C14: 신기술사업투자조합 | D14: 36526
B15: Fund 6호 | C15: 신기술사업투자조합 | D15: 36526
B16: Fund 7호 | C16: 신기술사업투자조합 | D16: 36526
B26: 합계 | E26: =SUM(E10:E24) -> 30000

Sheet 2-1.IPO 및 M&A건수
B2: 제안사명 | C2: =표지!$D$4 -> xxx 운용사 | E2: 작성항목 | F2: 2-1. IPO 및 M&A건수
B4: <작성방식>
B5: ■ 대상기간 : 2011. 1. 1 ~ 2016. 9. 19 (공고일)
B6: ■ 대상기간 내에 운용중인 혹은 청산한 펀드중 투자자산(피투자기업)이 IPO, M&A, 코넥스 상장, SPAC상장 된 투자건 기재
B7: ■ 복수 형태로 회수 된 경우 최종적 회수형태만 기재 (예시 : 투자기업이 코넥스 상장된 후 M&A된 경우 M&A로 기재)
B8: ■ M&A의 정의 1) 조합 단독 또는 전략적 투자자와 공동으로 최대주주의 지위를 확보하는 경우 2) 조합 단독 또는 전략적 투자자와 공동으로 이사회 또는 이에 준하는 의사결정 기구 구성원의 과반수 이상을 선임할 수 있는 권리를 가지는 경우 3) 조합 단독 또는 전략적 투자자와 공동으로 대표이사 임명권을 보유하는 경우 4) 투자한 투자기업이 중소벤처기업을 인수하여 상기 1,2,3 중 1개 이상에 해당하는 경우
H10: (단위: 백만원)
B11: 투자자산 | C11: 펀드명 (복수펀드 시 모두 기입) | D11: 투자기구 | E11: 투자금액 | F11: 회수금액 | G11: 상장/M&A 일자 | H11: 상장/M&A 형태 (IPO/코넥스/SPAC/M&A)
B12: Company A | C12: Fund 1호, Fund 2호 | D12: 한국벤처투자조합 | E12: 1000 | F12: 1500 | G12: 36526 | H12: IPO
B13: Company B | C13: Fund 3호 | D13: 신기술사업투자조합 | G13: 36526
B14: Company C | C14: Fund 1호, Fund 2호 | D14: 한국벤처투자조합 | G14: 36526
B15: Company E | C15: Fund 5호 | G15: 36526
B16: Company F | C16: Fund 6호 | G16: 36526
B17: Company G | C17: Fund 1호 | G17: 36526
B18: Company H | C18: Fund 8호 | G18: 36526
B26: 합계 | E26: =SUM(E12:E24) -> 1000 | F26: =SUM(F12:F24) -> 1500

Sheet 2-2.청산펀드 총괄
B2: 제안사명 | C2: =표지!$D$4 -> xxx 운용사 | E2: 작성항목 | F2: 2-2. 청산펀드 총괄
B4: <작성방식>
B5: ■ 대상기간 : 2011. 1. 1 ~ 2016. 9. 19 (공고일)
B6: ■ 대상기간 내에 청산 완료된 펀드 기재(청산중인 펀드는 제외)
B7: ■ "분배금액* "은 관리보수 및 펀드운영 관련 제비용은 차감하되, 성과보수는 포함한 금액으로 기재 (수익금에 성과보수가 포함 되도록 기재)
B8: ■ 공동운용사(Co-GP) 여부("Y","N")를 기재하고, "Y"일 경우 괄호에 해당 Co-GP명을 모두 기재
B9: ■ 하단의 "청산펀드 운용수익률 (펀드별)" 자료에는 정확한 일자 및 금액 기재(IRR 계산에 사용된 일자 및 금액은 펀드통장사본 등 제출된 증빙서류를 통해 검증 가능해야 함)
B10: ■ 산식변경 금지 (단, 행이 부족한 경우 행삽입 가능)
B11: ■ 용어의 정의 : ① 약정금액 : 출자이행을 확약한 금액 ② 납입금액, 분배금액 : 실제 펀드에 납입된 금액과 펀드에서 분배한 금액 ③ 투자금액 : 펀드에서 실제 투자자산에 투자된 금액
M13: (단위: 백만원, %)
B14: 펀드명 | C14: 투자기구 | D14: 성립일 | E14: 청산일 | F14: 약정금액 | G14: 납입금액 (A) | H14: 투자금액 | I14: 분배금액* (B) | J14: 수익금 (C=B-A) | K14: Multiple (D=B/A) | L14: IRR | M14: Co-GP여부 (Co-GP명)
B15: Fund 1호 | C15: 신기술사업투자조합 | D15: 36526 | E15: 39813 | F15: 25000 | G15: =SUMIF($B$43:$B$121,$B15,$D$43:$D$121) -> 8000 | H15: 18000 | I15: =SUMIF($B$43:$B$121,$B15,$E$43:$E$121) -> 9800 | J15: =I15-G15 -> 1800 | K15: =I15/G15 -> 1.225 | L15: =H61 -> 0.047181343 | M15: N
B16: Fund 2호 | C16: 한국벤처투자조합 | D16: 36526 | E16: 39813 | F16: 25000 | G16: =SUMIF($B$43:$B$121,$B16,$D$43:$D$121) -> 11000 | H16: 18000 | I16: =SUMIF($B$43:$B$121,$B16,$E$43:$E$121) -> 14000 | J16: =I16-G16 -> 3000 | K16: =I16/G16 -> 1.2727273 | L16: =H81 -> 0.057860688 | M16: N
B17: Fund 3호 | C17: 중소기업창업투자조합 | D17: 36526 | E17: 39813 | F17: 25000 | G17: =SUMIF($B$43:$B$121,$B17,$D$43:$D$121) -> 10000 | H17: 18000 | I17: =SUMIF($B$43:$B$121,$B17,$E$43:$E$121) -> 14000 | J17: =I17-G17 -> 4000 | K17: =I17/G17 -> 1.4 | L17: =H101 -> 0.079824155 | M17: Y(XXX사)
B18: Fund 4호 | C18: 신기술사업투자조합 | D18: 36526 | E18: 39813 | F18: 25000 | G18: =SUMIF($B$43:$B$121,$B18,$D$43:$D$121) -> 10000 | H18: 18000 | I18: =SUMIF($B$43:$B$121,$B18,$E$43:$E$121) -> 14500 | J18: =I18-G18 -> 4500 | K18: =I18/G18 -> 1.45 | L18: =H121 -> 0.090200659 | M18: N
B34: 합계 | F34: =SUM(F15:F32) -> 100000 | G34: =SUM(G15:G32) -> 39000 | H34: =SUM(H15:H32) -> 72000 | I34: =SUM(I15:I32) -> 52300 | J34: =SUM(J15:J32) -> 13300 | K34: =I34/G34 -> 1.3410256 | L34: =H41 -> 0.069973726
B35: 검증 | G35: =IF(G34-D41=0,"ok","error") -> ok | I35: =IF(I34-E41=0,"ok","error") -> ok | J35: =IF(J34-F41=0,"ok","error") -> ok | K35: =IF(K34-G41=0,"ok","error") -> ok | L35: =IF(L34-H41=0,"ok","error") -> ok
B38: □ 청산펀드별 현금흐름 및 수익률(IRR) (※ 분배금액에 성과보수 포함)
H39: (단위: 백만원, %)
B40: 펀드명 | C40: 일자 | D40: 납입금액 (A) | E40: 분배금액 (B) | F40: 수익금 (C=B-A) | G40: Multiple (D=B/A) | H40: IRR
B41: 전체 | D41: =SUM(D43:D121) -> 39000 | E41: =SUM(E43:E121) -> 52300 | F41: =SUM(F43:F121) -> 13300 | G41: =E41/D41 -> 1.3410256 | H41: =XIRR(F43:F121,C43:C121,0) -> 0.069973726
B43: Fund 1호 | C43: 36526 | D43: 1000 | F43: =-D43+E43 -> -1000
B44: Fund 1호 | C44: 36617 | D44: 1000 | F44: =-D44+E44 -> -1000
B45: Fund 1호 | C45: 37104 | D45: 1000 | F45: =-D45+E45 -> -1000
B46: Fund 1호 | C46: 37165 | D46: 1000 | F46: =-D46+E46 -> -1000
B47: Fund 1호 | C47: 37316 | D47: 1000 | F47: =-D47+E47 -> -1000
B48: Fund 1호 | C48: 37591 | D48: 1000 | F48: =-D48+E48 -> -1000
B49: Fund 1호 | C49: 37742 | D49: 1000 | F49: =-D49+E49 -> -1000
B50: Fund 1호 | C50: 37803 | D50: 1000 | F50: =-D50+E50 -> -1000
B51: Fund 1호 | C51: 37987 | E51: 500 | F51: =-D51+E51 -> 500
B52: Fund 1호 | C52: 38108 | E52: 500 | F52: =-D52+E52 -> 500
B53: Fund 1호 | C53: 38322 | E53: 500 | F53: =-D53+E53 -> 500
B54: Fund 1호 | C54: 38504 | E54: 500 | F54: =-D54+E54 -> 500
B55: Fund 1호 | C55: 38717 | E55: 1000 | F55: =-D55+E55 -> 1000
B56: Fund 1호 | C56: 38749 | E56: 500 | F56: =-D56+E56 -> 500
B57: Fund 1호 | C57: 38808 | E57: 500 | F57: =-D57+E57 -> 500
B58: Fund 1호 | C58: 38869 | E58: 800 | F58: =-D58+E58 -> 800
B59: Fund 1호 | C59: 38991 | E59: 1000 | F59: =-D59+E59 -> 1000
B60: Fund 1호 | C60: 39113 | E60: 1000 | F60: =-D60+E60 -> 1000
B61: Fund 1호 | C61: 39142 | E61: 3000 | F61: =-D61+E61 -> 3000 | G61: =SUM(E43:E61)/SUM(D43:D61) -> 1.225 | H61: =XIRR(F43:F61,C43:C61,0) -> 0.047181343
B63: Fund 2호 | C63: 36526 | D63: 1000 | F63: =-D63+E63 -> -1000
B64: Fund 2호 | C64: 36617 | D64: 1000 | F64: =-D64+E64 -> -1000
B65: Fund 2호 | C65: 37104 | D65: 1000 | F65: =-D65+E65 -> -1000
B66: Fund 2호 | C66: 37165 | D66: 2000 | F66: =-D66+E66 -> -2000
B67: Fund 2호 | C67: 37316 | D67: 2000 | F67: =-D67+E67 -> -2000
B68: Fund 2호 | C68: 37591 | D68: 2000 | F68: =-D68+E68 -> -2000
B69: Fund 2호 | C69: 37742 | D69: 1000 | F69: =-D69+E69 -> -1000
B70: Fund 2호 | C70: 37803 | D70: 1000 | F70: =-D70+E70 -> -1000
B71: Fund 2호 | C71: 37987 | E71: 500 | F71: =-D71+E71 -> 500
B72: Fund 2호 | C72: 38108 | E72: 500 | F72: =-D72+E72 -> 500
B73: Fund 2호 | C73: 38322 | E73: 1000 | F73: =-D73+E73 -> 1000
B74: Fund 2호 | C74: 38504 | E74: 1000 | F74: =-D74+E74 -> 1000
B75: Fund 2호 | C75: 38717 | E75: 1000 | F75: =-D75+E75 -> 1000
B76: Fund 2호 | C76: 38749 | E76: 1000 | F76: =-D76+E76 -> 1000
B77: Fund 2호 | C77: 38808 | E77: 1000 | F77: =-D77+E77 -> 1000
B78: Fund 2호 | C78: 38869 | E78: 1500 | F78: =-D78+E78 -> 1500
B79: Fund 2호 | C79: 38991 | E79: 1500 | F79: =-D79+E79 -> 1500
B80: Fund 2호 | C80: 39113 | E80: 2000 | F80: =-D80+E80 -> 2000
B81: Fund 2호 | C81: 39142 | E81: 3000 | F81: =-D81+E81 -> 3000 | G81: =SUM(E63:E81)/SUM(D63:D81) -> 1.2727273 | H81: =XIRR(F63:F81,C63:C81,0) -> 0.057860688
B83: Fund 3호 | C83: 36526 | D83: 1000 | F83: =-D83+E83 -> -1000
B84: Fund 3호 | C84: 36617 | D84: 1000 | F84: =-D84+E84 -> -1000
B85: Fund 3호 | C85: 37104 | D85: 1000 | F85: =-D85+E85 -> -1000
B86: Fund 3호 | C86: 37165 | D86: 2000 | F86: =-D86+E86 -> -2000
B87: Fund 3호 | C87: 37316 | D87: 2000 | F87: =-D87+E87 -> -2000
B88: Fund 3호 | C88: 37591 | D88: 1000 | F88: =-D88+E88 -> -1000
B89: Fund 3호 | C89: 37742 | D89: 1000 | F89: =-D89+E89 -> -1000
B90: Fund 3호 | C90: 37803 | D90: 1000 | F90: =-D90+E90 -> -1000
B91: Fund 3호 | C91: 37987 | E91: 500 | F91: =-D91+E91 -> 500
B92: Fund 3호 | C92: 38108 | E92: 500 | F92: =-D92+E92 -> 500
B93: Fund 3호 | C93: 38322 | E93: 1000 | F93: =-D93+E93 -> 1000
B94: Fund 3호 | C94: 38504 | E94: 1000 | F94: =-D94+E94 -> 1000
B95: Fund 3호 | C95: 38717 | E95: 1000 | F95: =-D95+E95 -> 1000
B96: Fund 3호 | C96: 38749 | E96: 1000 | F96: =-D96+E96 -> 1000
B97: Fund 3호 | C97: 38808 | E97: 1000 | F97: =-D97+E97 -> 1000
B98: Fund 3호 | C98: 38869 | E98: 1500 | F98: =-D98+E98 -> 1500
B99: Fund 3호 | C99: 38991 | E99: 1500 | F99: =-D99+E99 -> 1500
B100: Fund 3호 | C100: 39113 | E100: 2000 | F100: =-D100+E100 -> 2000
B101: Fund 3호 | C101: 39142 | E101: 3000 | F101: =-D101+E101 -> 3000 | G101: =SUM(E83:E101)/SUM(D83:D101) -> 1.4 | H101: =XIRR(F83:F101,C83:C101,0) -> 0.079824155
B103: Fund 4호 | C103: 36526 | D103: 1000 | F103: =-D103+E103 -> -1000
B104: Fund 4호 | C104: 36617 | D104: 1000 | F104: =-D104+E104 -> -1000
B105: Fund 4호 | C105: 37104 | D105: 1000 | F105: =-D105+E105 -> -1000
B106: Fund 4호 | C106: 37165 | D106: 2000 | F106: =-D106+E106 -> -2000
B107: Fund 4호 | C107: 37316 | D107: 1000 | F107: =-D107+E107 -> -1000
B108: Fund 4호 | C108: 37591 | D108: 2000 | F108: =-D108+E108 -> -2000
B109: Fund 4호 | C109: 37742 | D109: 1000 | F109: =-D109+E109 -> -1000
B110: Fund 4호 | C110: 37803 | D110: 1000 | F110: =-D110+E110 -> -1000
B111: Fund 4호 | C111: 37987 | E111: 500 | F111: =-D111+E111 -> 500
B112: Fund 4호 | C112: 38108 | E112: 500 | F112: =-D112+E112 -> 500
B113: Fund 4호 | C113: 38322 | E113: 1000 | F113: =-D113+E113 -> 1000
B114: Fund 4호 | C114: 38504 | E114: 1000 | F114: =-D114+E114 -> 1000
B115: Fund 4호 | C115: 38717 | E115: 1500 | F115: =-D115+E115 -> 1500
B116: Fund 4호 | C116: 38749 | E116: 1000 | F116: =-D116+E116 -> 1000
B117: Fund 4호 | C117: 38808 | E117: 1000 | F117: =-D117+E117 -> 1000
B118: Fund 4호 | C118: 38869 | E118: 1500 | F118: =-D118+E118 -> 1500
B119: Fund 4호 | C119: 38991 | E119: 1500 | F119: =-D119+E119 -> 1500
B120: Fund 4호 | C120: 39113 | E120: 2000 | F120: =-D120+E120 -> 2000
B121: Fund 4호 | C121: 39142 | E121: 3000 | F121: =-D121+E121 -> 3000 | G121: =SUM(E103:E121)/SUM(D103:D121) -> 1.45 | H121: =XIRR(F103:F121,C103:C121,0) -> 0.090200659

Sheet 2-2-1.청산펀드 세부내역
B2: 제안사명 | C2: =표지!$D$4 -> xxx 운용사 | F2: 작성항목 | G2: 2-2-1. 청산펀드 세부내역
B4: <작성방식>
B5: ■ 대상기간 : 2011. 1. 1 ~ 2016. 9. 19 (공고일)
B6: ■ 대상기간 내에 청산 완료된 펀드 기재(청산중인 펀드는 제외)
B7: ■ 회수금은 현금 기준의 원금+총이익 (투자이익, 기타이익 등)을 기재
B8: ■ 투자형태는 보통주, RCPS, CB, BW 등 투자한 증권의 형태를 기재
B9: ■ 회수방법은 IPO, M&A, 만기상환, GP인수 등 실제 회수방식을 기재
B10: ■ 하단 표의 "투자원금"은 '2-2.청산펀드 총괄' Sheet의 "투자금액"과 일치 해야 함
B11: ■ 산식변경 금지 (단, 행이 부족한 경우 행삽입 가능)
K13: (단위: 백만원, %)
B14: 펀드명 | C14: 투자자산 | D14: Multiple (B/A) | E14: 주요사업분야 | F14: 투자 일자 | G14: 회수 일자 | H14: 투자원금 (A) | I14: 회수금 (B) | J14: 투자형태 | K14: 회수방법
B15: Fund 1호 | C15: Company A | D15: =(I15)/H15 -> 1.1111111 | E15: 바이오 | F15: 40544 | G15: 41639 | H15: 4500 | I15: 5000 | J15: 보통주 | K15: IPO
B16: Fund 1호 | C16: Company B | D16: =(I16)/H16 -> 1 | E16: 게임 | F16: 40909 | G16: 41639 | H16: 6000 | I16: 6000 | J16: 보통주 | K16: M&A
B17: Fund 1호 | C17: Company C | D17: =(I17)/H17 -> 2.3333333 | E17: 교육 | F17: 41275 | G17: 41639 | H17: 3000 | I17: 7000 | J17: RCPS | K17: GP인수
B18: Fund 1호 | C18: Company D | D18: =(I18)/H18 -> 1.7777778 | E18: IT제조 | F18: 41640 | G18: 42004 | H18: 4500 | I18: 8000 | J18: CB | K18: 만기상환
B19: Fund 1호 | D19: =(I19)/H19 -> #DIV/0!
B20: Fund 1호 | D20: =(I20)/H20 -> #DIV/0!
B21: Fund 1호 | D21: =(I21)/H21 -> #DIV/0!
B22: Fund 1호 | D22: =(I22)/H22 -> #DIV/0!
B23: Fund 1호 | D23: =(I23)/H23 -> #DIV/0!
B24: Fund 1호 | D24: =(I24)/H24 -> #DIV/0!
B25: Fund 1호 | D25: =(I25)/H25 -> #DIV/0!
B26: Fund 1호 | D26: =(I26)/H26 -> #DIV/0!
B27: Fund 1호 | D27: =(I27)/H27 -> #DIV/0!
B28: Fund 1호 | D28: =(I28)/H28 -> #DIV/0!
B29: Fund 1호 | D29: =(I29)/H29 -> #DIV/0!
B30: Fund 1호 | D30: =(I30)/H30 -> #DIV/0!
B31: 합계 | D31: =I31/H31 -> 1.4444444 | H31: =SUM(H15:H30) -> 18000 | I31: =SUM(I15:I30) -> 26000
K33: (단위: 백만원, %)
B34: 펀드명 | C34: 투자자산 | D34: Multiple (B/A) | E34: 주요사업분야 | F34: 투자 일자 | G34: 회수 일자 | H34: 투자원금 (A) | I34: 회수금 (B) | J34: 투자형태 | K34: 회수방법
B35: Fund 2호 | C35: Company A | D35: =(I35)/H35 -> 1.1111111 | E35: 바이오 | F35: 40544 | G35: 41639 | H35: 4500 | I35: 5000 | J35: 보통주 | K35: IPO
B36: Fund 2호 | C36: Company B | D36: =(I36)/H36 -> 1 | E36: 게임 | F36: 40909 | G36: 41639 | H36: 6000 | I36: 6000 | J36: 보통주 | K36: M&A
B37: Fund 2호 | C37: Company C | D37: =(I37)/H37 -> 2.3333333 | E37: 교육 | F37: 41275 | G37: 41639 | H37: 3000 | I37: 7000 | J37: RCPS | K37: GP인수
B38: Fund 2호 | C38: Company D | D38: =(I38)/H38 -> 1.7777778 | E38: IT제조 | F38: 41640 | G38: 42004 | H38: 4500 | I38: 8000 | J38: CB | K38: 만기상환
B39: Fund 2호 | D39: =(I39)/H39 -> #DIV/0!
B40: Fund 2호 | D40: =(I40)/H40 -> #DIV/0!
B41: Fund 2호 | D41: =(I41)/H41 -> #DIV/0!
B42: Fund 2호 | D42: =(I42)/H42 -> #DIV/0!
B43: Fund 2호 | D43: =(I43)/H43 -> #DIV/0!
B44: Fund 2호 | D44: =(I44)/H44 -> #DIV/0!
B45: Fund 2호 | D45: =(I45)/H45 -> #DIV/0!
B46: Fund 2호 | D46: =(I46)/H46 -> #DIV/0!
B47: Fund 2호 | D47: =(I47)/H47 -> #DIV/0!
B48: Fund 2호 | D48: =(I48)/H48 -> #DIV/0!
B49: Fund 2호 | D49: =(I49)/H49 -> #DIV/0!
B50: Fund 2호 | D50: =(I50)/H50 -> #DIV/0!
B51: 합계 | D51: =I51/H51 -> 1.4444444 | H51: =SUM(H35:H50) -> 18000 | I51: =SUM(I35:I50) -> 26000
K53: (단위: 백만원, %)
B54: 펀드명 | C54: 투자자산 | D54: Multiple (B/A) | E54: 주요사업분야 | F54: 투자 일자 | G54: 회수 일자 | H54: 투자원금 (A) | I54: 회수금 (B) | J54: 투자형태 | K54: 회수방법
B55: Fund 3호 | C55: Company A | D55: =(I55)/H55 -> 1.1111111 | E55: 바이오 | F55: 40544 | G55: 41639 | H55: 4500 | I55: 5000 | J55: 보통주 | K55: IPO
B56: Fund 3호 | C56: Company B | D56: =(I56)/H56 -> 1 | E56: 게임 | F56: 40909 | G56: 41639 | H56: 6000 | I56: 6000 | J56: 보통주 | K56: M&A
B57: Fund 3호 | C57: Company C | D57: =(I57)/H57 -> 2.3333333 | E57: 교육 | F57: 41275 | G57: 41639 | H57: 3000 | I57: 7000 | J57: RCPS | K57: GP인수
B58: Fund 3호 | C58: Company D | D58: =(I58)/H58 -> 1.7777778 | E58: IT제조 | F58: 41640 | G58: 42004 | H58: 4500 | I58: 8000 | J58: CB | K58: 만기상환
B59: Fund 3호 | D59: =(I59)/H59 -> #DIV/0!
B60: Fund 3호 | D60: =(I60)/H60 -> #DIV/0!
B61: Fund 3호 | D61: =(I61)/H61 -> #DIV/0!
B62: Fund 3호 | D62: =(I62)/H62 -> #DIV/0!
B63: Fund 3호 | D63: =(I63)/H63 -> #DIV/0!
B64: Fund 3호 | D64: =(I64)/H64 -> #DIV/0!
B65: Fund 3호 | D65: =(I65)/H65 -> #DIV/0!
B66: Fund 3호 | D66: =(I66)/H66 -> #DIV/0!
B67: Fund 3호 | D67: =(I67)/H67 -> #DIV/0!
B68: Fund 3호 | D68: =(I68)/H68 -> #DIV/0!
B69: Fund 3호 | D69: =(I69)/H69 -> #DIV/0!
B70: Fund 3호 | D70: =(I70)/H70 -> #DIV/0!
B71: 합계 | D71: =I71/H71 -> 1.4444444 | H71: =SUM(H55:H70) -> 18000 | I71: =SUM(I55:I70) -> 26000
K73: (단위: 백만원, %)
B74: 펀드명 | C74: 투자자산 | D74: Multiple (B/A) | E74: 주요사업분야 | F74: 투자 일자 | G74: 회수 일자 | H74: 투자원금 (A) | I74: 회수금 (B) | J74: 투자형태 | K74: 회수방법
B75: Fund 4호 | C75: Company A | D75: =(I75)/H75 -> 1.1111111 | E75: 바이오 | F75: 40544 | G75: 41639 | H75: 4500 | I75: 5000 | J75: 보통주 | K75: IPO
B76: Fund 4호 | C76: Company B | D76: =(I76)/H76 -> 1 | E76: 게임 | F76: 40909 | G76: 41639 | H76: 6000 | I76: 6000 | J76: 보통주 | K76: M&A
B77: Fund 4호 | C77: Company C | D77: =(I77)/H77 -> 2.3333333 | E77: 교육 | F77: 41275 | G77: 41639 | H77: 3000 | I77: 7000 | J77: RCPS | K77: GP인수
B78: Fund 4호 | C78: Company D | D78: =(I78)/H78 -> 1.7777778 | E78: IT제조 | F78: 41640 | G78: 42004 | H78: 4500 | I78: 8000 | J78: CB | K78: 만기상환
B79: Fund 4호 | D79: =(I79)/H79 -> #DIV/0!
B80: Fund 4호 | D80: =(I80)/H80 -> #DIV/0!
B81: Fund 4호 | D81: =(I81)/H81 -> #DIV/0!
B82: Fund 4호 | D82: =(I82)/H82 -> #DIV/0!
B83: Fund 4호 | D83: =(I83)/H83 -> #DIV/0!
B84: Fund 4호 | D84: =(I84)/H84 -> #DIV/0!
B85: Fund 4호 | D85: =(I85)/H85 -> #DIV/0!
B86: Fund 4호 | D86: =(I86)/H86 -> #DIV/0!
B87: Fund 4호 | D87: =(I87)/H87 -> #DIV/0!
B88: Fund 4호 | D88: =(I88)/H88 -> #DIV/0!
B89: Fund 4호 | D89: =(I89)/H89 -> #DIV/0!
B90: Fund 4호 | D90: =(I90)/H90 -> #DIV/0!
B91: 합계 | D91: =I91/H91 -> 1.4444444 | H91: =SUM(H75:H90) -> 18000 | I91: =SUM(I75:I90) -> 26000

Sheet 2-3.운용중인펀드 총괄
B2: 제안사명 | C2: =표지!$D$4 -> xxx 운용사 | E2: 작성항목 | F2: 2-3. 운용중인펀드 총괄
B4: <작성방식>
B5: ■ 공고일(2016. 9. 19)기준 운용중인 펀드 기재(청산중인 펀드 포함)
B6: ■ 용어의 정의 : ① 약정금액 : 출자이행을 확약한 금액 ② 납입금액 : 실제 펀드에 납입된 금액 ③ 투자금액 : 펀드에서 실제 투자자산에 투자된 금액
B7: ■ 공동운용사(Co-GP) 여부("Y","N")를 기재하고, "Y"일 경우 괄호에 해당 Co-GP명을 모두 기재
B8: ■ 산식변경 금지 (단, 행이 부족한 경우 행삽입 가능)
K10: (단위: 백만원, %)
B11: 펀드명 | C11: 투자기구 | D11: 성립일 | E11: 청산예정일 | F11: 투자기간 | G11: 약정금액 | H11: 납입금액 | I11: 투자금액 | J11: Multiple | K11: Co-GP 여부 (Co-GP명)
B12: Fund 1호 | C12: 한국벤처투자조합 | D12: 36526 | E12: 39813 | F12: 4년 | G12: 25000 | H12: 20000 | I12: 18000 | J12: ='2-3-1.운용중인펀드 세부내역'!D34 -> 1.4166667 | K12: N
B13: Fund 2호 | D13: 36526 | E13: 39813 | F13: 4년 | G13: 25000 | H13: 20000 | I13: 18000 | J13: ='2-3-1.운용중인펀드 세부내역'!D55 -> 1.4166667 | K13: N
B14: Fund 3호 | D14: 36526 | E14: 39813 | F14: 4년 | G14: 25000 | H14: 20000 | I14: 18000 | J14: ='2-3-1.운용중인펀드 세부내역'!D76 -> 1.4166667 | K14: Y(XXX사)
K15: N
K16: N
K17: N
K18: N
K19: N
K20: N
K21: N
K22: N
K23: N
K24: N
K25: N
K26: N
... K28: N
B30: 합계 | G30: =SUM(G12:G28) -> 75000 | H30: =SUM(H12:H28) -> 60000 | I30: =SUM(I12:I28) -> 54000

Sheet 2-3-1.운용중인펀드 세부내역
B2: 제안사명 | C2: =표지!$D$4 -> xxx 운용사 | F2: 작성항목 | G2: 2-3-1. 운용중인펀드 세부내역
B4: <작성방식>
B5: ■ 공고일(2016. 9. 19)기준 운용중인 펀드 기재(청산중인 펀드 포함)
B6: ■ 회수금은 현금 기준의 원금+총이익(투자이익, 기타이익 등)을 기재
B7: ■ 미회수 투자자산의 "미회수 가치(C)"의 기재방법
B8: ① 상장기업(코스피, 코스닥, 코넥스) : 공고일 직전 거래일(9/13) 종가를 기준으로 작성
B9: ② 비상장기업 : 매수 이후 가장 최근 거래(고유계정 거래 제외) 된 시장 가격 기준으로 작성하되 주식매매계약서, 확인서 등 증빙서류로 검증 가능한 건만 시장 가격으로 기재
B10: 비상장기업의 거래가가 존재하지 않을 경우, 감액손실 등이 반영된 장부가액 적용 (감액 이후 거래가 있는 경우 최근 거래가격 기준으로 작성)
B11: ■ 투자형태는 보통주, RCPS, CB, BW 등 투자한 증권의 형태를 기재
B12: ■ 회수방법은 IPO, M&A, 만기상환, GP인수 등 실제 회수방식을 기재 (회수 중인 종목은 ‘미회수’로 기재)
B13: ■ 산식변경 금지 (단, 행이 부족한 경우 행삽입 가능)
P15: (단위: 백만원, %)
B16: 펀드명 | C16: 투자자산 | D16: Multiple ((B+C)/A) | E16: 주요사업분야 | F16: 성립일 | G16: 청산 예정일 | H16: 투자 일자 | I16: 회수 일자 | J16: 투자원금 (A) | K16: 회수금 (B) | L16: 미회수 투자자산 | O16: 투자형태 | P16: 회수방법
L17: 미회수원금 | M17: 미회수가치(C) | N17: 가치 산정 근거
B18: Fund 1호 | C18: Company A | D18: =(K18+M18)/J18 -> 1.5 | E18: 바이오 | F18: 36526 | G18: 39813 | H18: 41275 | I18: 41639 | J18: 1000 | K18: 0 | L18: 1000 | M18: 1500 | N18: 10,000주*150,000원(코스닥, 2014.12월말 종가) | O18: 보통주 | P18: IPO
B19: Fund 1호 | C19: Company B | D19: =(K19+M19)/J19 -> 1.75 | E19: 게임 | F19: =F18 -> 36526 | G19: =G18 -> 39813 | H19: 40909 | I19: 41639 | J19: 4000 | K19: 3000 | L19: 2000 | M19: 4000 | N19: 20,000주*200,000원(M&A 내역) | O19: 보통주 | P19: M&A
B20: Fund 1호 | C20: Company C | D20: =(K20+M20)/J20 -> 0.625 | E20: 교육 | F20: =F19 -> 36526 | G20: =G19 -> 39813 | H20: 40544 | J20: 4000 | K20: 2000 | L20: 2000 | M20: 500 | N20: 감액(감액 사유) | O20: RCPS | P20: 미회수
B21: Fund 1호 | C21: Company D | D21: =(K21+M21)/J21 -> 2 | E21: IT제조 | F21: =F20 -> 36526 | G21: =G20 -> 39813 | H21: 40179 | J21: 3000 | K21: 5000 | L21: 1000 | M21: 1000 | N21: 투자원금 | O21: CB | P21: 미회수
B22: Fund 1호 | F22: =F21 -> 36526 | G22: =G21 -> 39813
B23: Fund 1호 | F23: =F22 -> 36526 | G23: =G22 -> 39813
B24: Fund 1호 | F24: =F23 -> 36526 | G24: =G23 -> 39813
B25: Fund 1호 | F25: =F24 -> 36526 | G25: =G24 -> 39813
B26: Fund 1호 | F26: =F25 -> 36526 | G26: =G25 -> 39813
B27: Fund 1호 | F27: =F26 -> 36526 | G27: =G26 -> 39813
B28: Fund 1호 | F28: =F27 -> 36526 | G28: =G27 -> 39813
B29: Fund 1호 | F29: =F28 -> 36526 | G29: =G28 -> 39813
B30: Fund 1호 | F30: =F29 -> 36526 | G30: =G29 -> 39813
B31: Fund 1호 | F31: =F30 -> 36526 | G31: =G30 -> 39813
B32: Fund 1호 | F32: =F31 -> 36526 | G32: =G31 -> 39813
B33: Fund 1호 | F33: =F32 -> 36526 | G33: =G32 -> 39813
D34: =(K34+M34)/J34 -> 1.4166667 | J34: =SUM(J18:J33) -> 12000 | K34: =SUM(K18:K33) -> 10000 | L34: =SUM(L18:L33) -> 6000 | M34: =SUM(M18:M33) -> 7000
P36: (단위: 백만원, %)
B37: 펀드명 | C37: 투자자산 | D37: Multiple ((B+C)/A) | E37: 주요사업분야 | F37: 설립일 | G37: 청산 예정일 | H37: 투자 일자 | I37: 회수 일자 | J37: 투자원금 (A) | K37: 회수금 (B) | L37: 미회수 투자자산 | O37: 투자형태 | P37: 회수방법
L38: 미회수원금 | M38: 미회수가치(C) | N38: 가치 산정 근거
B39: Fund 2호 | C39: Company A | D39: =(K39+M39)/J39 -> 1.5 | E39: 바이오 | F39: 36526 | G39: 39813 | H39: 41275 | I39: 41639 | J39: 1000 | K39: 0 | L39: 1000 | M39: 1500 | N39: 10,000주*150,000원(코스닥, 2014.12월말 종가) | O39: 보통주 | P39: IPO
B40: Fund 2호 | C40: Company B | D40: =(K40+M40)/J40 -> 1.75 | E40: 게임 | F40: =F39 -> 36526 | G40: =G39 -> 39813 | H40: 40909 | I40: 41639 | J40: 4000 | K40: 3000 | L40: 2000 | M40: 4000 | N40: 20,000주*200,000원(M&A 내역) | O40: 보통주 | P40: M&A
B41: Fund 2호 | C41: Company C | D41: =(K41+M41)/J41 -> 0.625 | E41: 교육 | F41: =F40 -> 36526 | G41: =G40 -> 39813 | H41: 40544 | I41: 41639 | J41: 4000 | K41: 2000 | L41: 2000 | M41: 500 | N41: 감액(감액 사유) | O41: RCPS | P41: 미회수
B42: Fund 2호 | C42: Company D | D42: =(K42+M42)/J42 -> 2 | E42: IT제조 | F42: =F41 -> 36526 | G42: =G41 -> 39813 | H42: 40179 | J42: 3000 | K42: 5000 | L42: 1000 | M42: 1000 | N42: 투자원금 | O42: CB | P42: 미회수
B43: Fund 2호 | F43: =F42 -> 36526 | G43: =G42 -> 39813
B44: Fund 2호 | F44: =F43 -> 36526 | G44: =G43 -> 39813
B45: Fund 2호 | F45: =F44 -> 36526 | G45: =G44 -> 39813
B46: Fund 2호 | F46: =F45 -> 36526 | G46: =G45 -> 39813
B47: Fund 2호 | F47: =F46 -> 36526 | G47: =G46 -> 39813
B48: Fund 2호 | F48: =F47 -> 36526 | G48: =G47 -> 39813
B49: Fund 2호 | F49: =F48 -> 36526 | G49: =G48 -> 39813
B50: Fund 2호 | F50: =F49 -> 36526 | G50: =G49 -> 39813
B51: Fund 2호 | F51: =F50 -> 36526 | G51: =G50 -> 39813
B52: Fund 2호 | F52: =F51 -> 36526 | G52: =G51 -> 39813
B53: Fund 2호 | F53: =F52 -> 36526 | G53: =G52 -> 39813
B54: Fund 2호 | F54: =F53 -> 36526 | G54: =G53 -> 39813
D55: =(K55+M55)/J55 -> 1.4166667 | J55: =SUM(J39:J54) -> 12000 | K55: =SUM(K39:K54) -> 10000 | L55: =SUM(L39:L54) -> 6000 | M55: =SUM(M39:M54) -> 7000
P57: (단위: 백만원, %)
B58: 펀드명 | C58: 투자자산 | D58: Multiple ((B+C)/A) | E58: 주요사업분야 | F58: 설립일 | G58: 청산 예정일 | H58: 투자 일자 | I58: 회수 일자 | J58: 투자원금 (A) | K58: 회수금 (B) | L58: 미회수 투자자산 | O58: 투자형태 | P58: 회수방법
L59: 미회수원금 | M59: 미회수가치(C) | N59: 가치 산정 근거
B60: Fund 3호 | C60: Company A | D60: =(K60+M60)/J60 -> 1.5 | E60: 바이오 | F60: 36526 | G60: 39813 | H60: 41275 | I60: 41639 | J60: 1000 | K60: 0 | L60: 1000 | M60: 1500 | N60: 10,000주*150,000원(코스닥, 2014.12월말 종가) | O60: 보통주 | P60: IPO
B61: Fund 3호 | C61: Company B | D61: =(K61+M61)/J61 -> 1.75 | E61: 게임 | F61: =F60 -> 36526 | G61: =G60 -> 39813 | H61: 40909 | I61: 41639 | J61: 4000 | K61: 3000 | L61: 2000 | M61: 4000 | N61: 20,000주*200,000원(M&A 내역) | O61: 보통주 | P61: M&A
B62: Fund 3호 | C62: Company C | D62: =(K62+M62)/J62 -> 0.625 | E62: 교육 | F62: =F61 -> 36526 | G62: =G61 -> 39813 | H62: 40544 | I62: 41639 | J62: 4000 | K62: 2000 | L62: 2000 | M62: 500 | N62: 감액(감액 사유) | O62: RCPS | P62: 미회수
B63: Fund 3호 | C63: Company D | D63: =(K63+M63)/J63 -> 2 | E63: IT제조 | F63: =F62 -> 36526 | G63: =G62 -> 39813 | H63: 40179 | J63: 3000 | K63: 5000 | L63: 1000 | M63: 1000 | N63: 투자원금 | O63: CB | P63: 미회수
B64: Fund 3호 | F64: =F63 -> 36526 | G64: =G63 -> 39813
B65: Fund 3호 | F65: =F64 -> 36526 | G65: =G64 -> 39813
B66: Fund 3호 | F66: =F65 -> 36526 | G66: =G65 -> 39813
B67: Fund 3호 | F67: =F66 -> 36526 | G67: =G66 -> 39813
B68: Fund 3호 | F68: =F67 -> 36526 | G68: =G67 -> 39813
B69: Fund 3호 | F69: =F68 -> 36526 | G69: =G68 -> 39813
B70: Fund 3호 | F70: =F69 -> 36526 | G70: =G69 -> 39813
B71: Fund 3호 | F71: =F70 -> 36526 | G71: =G70 -> 39813
B72: Fund 3호 | F72: =F71 -> 36526 | G72: =G71 -> 39813
B73: Fund 3호 | F73: =F72 -> 36526 | G73: =G72 -> 39813
B74: Fund 3호 | F74: =F73 -> 36526 | G74: =G73 -> 39813
B75: Fund 3호 | F75: =F74 -> 36526 | G75: =G74 -> 39813
D76: =(K76+M76)/J76 -> 1.4166667 | J76: =SUM(J60:J75) -> 12000 | K76: =SUM(K60:K75) -> 10000 | L76: =SUM(L60:L75) -> 6000 | M76: =SUM(M60:M75) -> 7000

Sheet 2-4.KIF자펀드 운용실적
B2: 제안사명 | C2: =표지!$D$4 -> xxx 운용사 | E2: 작성항목 | F2: 2-4. KIF자펀드 운용실적
B4: <작성방식>
B5: ■ 대상기간 : 2011. 1. 1 ~ 2016. 9. 19 (공고일)
B6: ■ 대상기간 내에 KIF 자펀드 청산 이력이 있는 운용사만 기재
B7: ■ 회수금은 현금 기준의 원금+총이익(투자이익, 기타이익 등)을 기재
B8: ■ 투자형태는 보통주, RCPS, CB, BW 등 투자한 증권의 형태를 기재
B9: ■ 회수방법은 IPO, M&A, 만기상환, GP인수 등 실제 회수방식을 기재
B10: ■ 산식변경 금지 (단, 행이 부족한 경우 행삽입 가능)
N12: (단위: 백만원, %)
B13: 펀드명 | C13: 투자자산 | D13: 주요사업분야 | E13: 성립일 | F13: 청산일 | G13: 투자 일자 | H13: 회수 일자 | I13: 투자원금 (A) | J13: 회수금 (B) | K13: Multiple (B/A) | L13: IRR | M13: 투자형태 | N13: 회수방법
B14: Fund 1호 | C14: Company A | E14: 38353 | F14: 41030 | G14: 38353 | H14: 40178 | I14: 4500 | J14: 5000 | K14: =J14/I14 -> 1.1111111 | M14: 보통주 | N14: IPO
B15: Fund 1호 | C15: Company B | E15: =E14 -> 38353 | F15: =F14 -> 41030 | G15: 38353 | H15: 40543 | I15: 6000 | J15: 6000 | K15: =J15/I15 -> 1 | M15: 보통주 | N15: M&A
B16: Fund 1호 | C16: Company C | E16: =E15 -> 38353 | F16: =F15 -> 41030 | G16: 38718 | H16: 40908 | I16: 3000 | J16: 7000 | K16: =J16/I16 -> 2.3333333 | M16: RCPS | N16: 만기상환
B17: Fund 1호 | C17: Company D | E17: =E16 -> 38353 | F17: =F16 -> 41030 | G17: 39083 | H17: 40909 | I17: 4500 | J17: 8000 | K17: =J17/I17 -> 1.7777778 | M17: CB | N17: GP인수
B18: Fund 1호 | E18: =E17 -> 38353 | F18: =F17 -> 41030 | K18: =J18/I18 -> #DIV/0!
B19: Fund 1호 | E19: =E18 -> 38353 | F19: =F18 -> 41030 | K19: =J19/I19 -> #DIV/0!
B20: Fund 1호 | E20: =E19 -> 38353 | F20: =F19 -> 41030 | K20: =J20/I20 -> #DIV/0!
B21: Fund 1호 | E21: =E20 -> 38353 | F21: =F20 -> 41030 | K21: =J21/I21 -> #DIV/0!
B22: Fund 1호 | E22: =E21 -> 38353 | F22: =F21 -> 41030 | K22: =J22/I22 -> #DIV/0!
B23: Fund 1호 | E23: =E22 -> 38353 | F23: =F22 -> 41030 | K23: =J23/I23 -> #DIV/0!
B24: Fund 1호 | E24: =E23 -> 38353 | F24: =F23 -> 41030 | K24: =J24/I24 -> #DIV/0!
B25: Fund 1호 | E25: =E24 -> 38353 | F25: =F24 -> 41030 | K25: =J25/I25 -> #DIV/0!
B26: Fund 1호 | E26: =E25 -> 38353 | F26: =F25 -> 41030 | K26: =J26/I26 -> #DIV/0!
B27: Fund 1호 | E27: =E26 -> 38353 | F27: =F26 -> 41030 | K27: =J27/I27 -> #DIV/0!
B28: Fund 1호 | E28: =E27 -> 38353 | F28: =F27 -> 41030 | K28: =J28/I28 -> #DIV/0!
B29: Fund 1호 | E29: =E28 -> 38353 | F29: =F28 -> 41030 | K29: =J29/I29 -> #DIV/0!
B30: 합계 | I30: =SUM(I14:I29) -> 18000 | J30: =SUM(J14:J29) -> 26000 | K30: =J30/I30 -> 1.4444444
N32: (단위: 백만원, %)
B33: 펀드명 | C33: 투자자산 | D33: 주요사업분야 | E33: 결성일 | F33: 청산일 | G33: 투자 일자 | H33: 회수 일자 | I33: 투자원금 (A) | J33: 회수금 (B) | K33: Multiple (B/A) | L33: Multiple (B/A) | M33: 투자형태 | N33: 회수방법
B34: Fund 2호 | C34: Company A | E34: 38353 | F34: 41030 | G34: 40544 | H34: 41639 | I34: 4500 | J34: 5000 | K34: =J34/I34 -> 1.1111111 | L34: =K34/J34 -> 0.00022222222 | M34: 보통주 | N34: IPO
B35: Fund 2호 | C35: Company B | E35: =E34 -> 38353 | F35: =F34 -> 41030 | G35: 40909 | H35: 41639 | I35: 6000 | J35: 6000 | K35: =J35/I35 -> 1 | L35: =K35/J35 -> 0.00016666667 | M35: 보통주 | N35: M&A
B36: Fund 2호 | C36: Company C | E36: =E35 -> 38353 | F36: =F35 -> 41030 | G36: 41275 | H36: 41639 | I36: 3000 | J36: 7000 | K36: =J36/I36 -> 2.3333333 | L36: =K36/J36 -> 0.00033333333 | M36: RCPS | N36: 만기상환
B37: Fund 2호 | C37: Company D | E37: =E36 -> 38353 | F37: =F36 -> 41030 | G37: 41640 | H37: 42004 | I37: 4500 | J37: 8000 | K37: =J37/I37 -> 1.7777778 | L37: =K37/J37 -> 0.00022222222 | M37: CB | N37: GP인수
B38: Fund 2호 | E38: =E37 -> 38353 | F38: =F37 -> 41030 | K38: =J38/I38 -> #DIV/0! | L38: =K38/J38 -> #DIV/0!
B39: Fund 2호 | E39: =E38 -> 38353 | F39: =F38 -> 41030 | K39: =J39/I39 -> #DIV/0! | L39: =K39/J39 -> #DIV/0!
B40: Fund 2호 | E40: =E39 -> 38353 | F40: =F39 -> 41030 | K40: =J40/I40 -> #DIV/0! | L40: =K40/J40 -> #DIV/0!
B41: Fund 2호 | E41: =E40 -> 38353 | F41: =F40 -> 41030 | K41: =J41/I41 -> #DIV/0! | L41: =K41/J41 -> #DIV/0!
B42: Fund 2호 | E42: =E41 -> 38353 | F42: =F41 -> 41030 | K42: =J42/I42 -> #DIV/0! | L42: =K42/J42 -> #DIV/0!
B43: Fund 2호 | E43: =E42 -> 38353 | F43: =F42 -> 41030 | K43: =J43/I43 -> #DIV/0! | L43: =K43/J43 -> #DIV/0!
B44: Fund 2호 | E44: =E43 -> 38353 | F44: =F43 -> 41030 | K44: =J44/I44 -> #DIV/0! | L44: =K44/J44 -> #DIV/0!
B45: Fund 2호 | E45: =E44 -> 38353 | F45: =F44 -> 41030 | K45: =J45/I45 -> #DIV/0! | L45: =K45/J45 -> #DIV/0!
B46: Fund 2호 | E46: =E45 -> 38353 | F46: =F45 -> 41030 | K46: =J46/I46 -> #DIV/0! | L46: =K46/J46 -> #DIV/0!
B47: Fund 2호 | E47: =E46 -> 38353 | F47: =F46 -> 41030 | K47: =J47/I47 -> #DIV/0! | L47: =K47/J47 -> #DIV/0!
B48: Fund 2호 | E48: =E47 -> 38353 | F48: =F47 -> 41030 | K48: =J48/I48 -> #DIV/0! | L48: =K48/J48 -> #DIV/0!
B49: Fund 2호 | E49: =E48 -> 38353 | F49: =F48 -> 41030 | K49: =J49/I49 -> #DIV/0! | L49: =K49/J49 -> #DIV/0!
B50: 합계 | I50: =SUM(I34:I49) -> 18000 | J50: =SUM(J34:J49) -> 26000 | K50: =J50/I50 -> 1.4444444 | L50: =K50/J50 -> 5.5555556e-05

Sheet 3-1.핵심운용인력 경력기간
B2: 제안사명 | C2: =표지!$D$4 -> xxx 운용사 | F2: 작성항목 | G2: 3-1. 핵심운용인력 경력기간
B4: <작성방식>
B5: ■ 모든 경력(NON - VC 기간 포함)을 기록하되, 반드시 경력 증빙서류로 확인이 되어야 함
B6: ■ 경력시작일 및 종료일이 월 단위로만 파악이 가능한 경우, 시작일 및 종료일은 해당월 1일로 기재
B8: 성명 | C8: 핵심인력 구분 | D8: 출생년도 | E8: 직장명 | F8: 부서명 | G8: 직위 | H8: 수행업무 | I8: 경력시작일 | J8: 경력종료일 | K8: 경력년수
B9: 홍길동 | C9: 대표펀드매니저 | D9: 19XX | E9: AA운용 | F9: A팀 | G9: 팀장 | H9: 투자A팀 총괄 | I9: 38353 | J9: 42527 | K9: =(J9-I9)/365 -> 11.435616
E10: AA운용 | F10: B팀 | G10: 과장 | H10: 심사역 | I10: 36892 | J10: 37895 | K10: =(J10-I10)/365 -> 2.7479452
E11: CC은행 | F11: C팀 | G11: 대리 | H11: 경영기획 | I11: 35551 | J11: 36707 | K11: =(J11-I11)/365 -> 3.1671233
E12: 합계 | K12: =SUM(K9:K11) -> 17.350685
B14: 홍길동2 | C14: 핵심운용인력 | D14: 19XX | E14: AA운용 | F14: A팀 | G14: 팀장 | H14: 투자A팀 총괄 | I14: 38353 | J14: 42527 | K14: =(J14-I14)/365 -> 11.435616
E15: AA운용 | F15: B팀 | G15: 과장 | H15: 심사역 | I15: 36892 | J15: 37895 | K15: =(J15-I15)/365 -> 2.7479452
E16: BB운용 | F16: B팀 | G16: 과장 | H16: 심사역 | I16: 36892 | J16: 37895 | K16: =(J16-I16)/365 -> 2.7479452
E17: BB운용 | F17: B팀 | G17: 과장 | H17: 심사역 | I17: 36892 | J17: 37895 | K17: =(J17-I17)/365 -> 2.7479452
E18: AA게임사 | F18: C팀 | G18: 대리 | H18: 경영기획 | I18: 35551 | J18: 36707 | K18: =(J18-I18)/365 -> 3.1671233
E19: 합계 | K19: =SUM(K14:K18) -> 22.846575
B21: 홍길동3 | C21: 핵심운용인력 | D21: 19XX | E21: AA운용 | F21: A팀 | G21: 팀장 | H21: 투자A팀 총괄 | I21: 37622 | J21: 42527 | K21: =(J21-I21)/365 -> 13.438356
E22: EE운용 | F22: B팀 | G22: 부장 | H22: 심사역 | I22: 36892 | J22: 37895 | K22: =(J22-I22)/365 -> 2.7479452
E23: EE운용 | F23: B팀 | G23: 과장 | H23: 심사역 | I23: 36892 | J23: 37895 | K23: =(J23-I23)/365 -> 2.7479452
E24: EE운용 | F24: B팀 | G24: 대리 | H24: 심사역 | I24: 36892 | J24: 37895 | K24: =(J24-I24)/365 -> 2.7479452
E25: DD제조사 | F25: C팀 | G25: 대리 | H25: 인사총무 | I25: 35551 | J25: 36707 | K25: =(J25-I25)/365 -> 3.1671233
E26: 합계 | K26: =SUM(K21:K25) -> 24.849315

Sheet 3-2.핵심운용인력 개별기업 투자성과
B2: 제안사명 | C2: =표지!$D$4 -> xxx 운용사 | E2: 작성항목 | F2: 3-2. 핵심운용인력 개별기업 투자성과
B4: <작성방식>
B5: ■ 대상기간 : 2011. 1. 1 ~ 2016. 9. 19 (공고일)
B6: ■ 각각 핵심운용인력별로 대상기간내에 투자한 건만 작성(타 운용사 재직시의 투자, 회수 실적도 포함) ※ 성공, 실패 사례 모두 기재할 것
B7: ■ 직접적으로 투자기업의 발굴, 심사, 사후관리에 참여한 경우만 기재(투심 보고서, 준법감시 보고서 등에 발굴/심사/사후관리자 확인이 가능한 건만 기재) 하되, 대표펀드매니저 였을 경우는 해당 펀드의 전체 투자내역 기재(단, 대펀 변경시 변경이후 투자분부터 기재)
B8: ■ 사업분야는 콤보박스 중 가장 근접한 분야 선택
B9: ■ 회수금은 현금 기준의 원금+총이익(투자이익, 기타이익 등)을 기재
B10: ■ 미회수 투자자산의 "미회수 가치(C)"의 기재방법
B11: ① 상장기업(코스피, 코스닥, 코넥스) : 공고일 직전 거래일(9/13) 종가를 기준으로 작성
B12: ② 비상장기업 : 매수 이후 가장 최근 거래(고유계정 거래 제외) 된 시장 가격 기준으로 작성하되 주식매매계약서, 확인서 등 증빙서류로 검증 가능한 건만 시장 가격으로 기재
B13: 비상장기업의 거래가가 존재하지 않을 경우, 감액손실 등이 반영된 장부가액 적용 (감액 이후 거래가 있는 경우 최근 거래가격 기준으로 작성)
B14: ■ 투자형태는 보통주, RCPS, CB, BW 등 투자한 증권의 형태를 기재
B15: ■ 회수방법은 IPO, M&A, 만기상환, GP인수 등 실제 회수방식을 기재 (회수 중인 종목은 ‘미회수’로 기재)
... B17: ■ 산식변경 금지 (단, 행이 부족한 경우 행삽입 가능)
S19: (단위: 백만원, %)
B20: 성명 | C20: 운용펀드 | D20: 운용사 | E20: 투자기구 | F20: 투자기업 | G20: Multiple ((B+C)/A) | H20: 사업분야 | I20: 투자 일자 | J20: 회수 일자 | K20: 투자원금 (A) | L20: 회수금 (B) | M20: 미회수 투자자산 | P20: 투자형태 | Q20: 회수방법 | R20: 투자시 지위 | S20: 투자 역할
M21: 미회수원금 | N21: 미회수 가치(C) | O21: 가치 산정 근거
B22: 홍길동 | C22: Fund 5호 | D22: OO운용사 | E22: 한국벤처투자조합 | F22: Company A | G22: =(L22+N22)/K22 -> 1.5 | H22: 바이오 | I22: 36526 | J22: 39813 | K22: 1000 | L22: 0 | M22: 1000 | N22: 1500 | O22: 10,000주*150,000원(KOSDAQ, 2014.12월말 종가) | P22: 보통주 | Q22: IPO | R22: 대표펀드매니저 | S22: 발굴
B23: 홍길동 | C23: Fund 5호 | D23: OO운용사 | E23: 한국벤처투자조합 | F23: Company B | G23: =(L23+N23)/K23 -> 1.75 | H23: ICT서비스 | I23: 36526 | J23: 39813 | K23: 4000 | L23: 3000 | M23: 2000 | N23: 4000 | O23: 20,000주*200,000원(M&A 내역) | P23: 보통주 | Q23: M&A | R23: 대표펀드매니저 | S23: 심사+사후관리
B24: 홍길동 | C24: Fund 5호 | D24: OO운용사 | E24: 한국벤처투자조합 | F24: Company D | G24: =(L24+N24)/K24 -> 0.625 | H24: 바이오 | I24: 36526 | J24: 39813 | K24: 4000 | L24: 2000 | M24: 2000 | N24: 500 | O24: 감액(감액 사유) | P24: RCPS | Q24: 미회수 | R24: 대표펀드매니저 | S24: 대펀(총괄)
B25: 홍길동 | C25: Fund 10호 | D25: AA운용사 | E25: 중소기업창업투자조합 | F25: Company E | G25: =(L25+N25)/K25 -> 2 | H25: ICT제조 | I25: 36526 | J25: 39813 | K25: 3000 | L25: 5000 | M25: 1000 | N25: 1000 | O25: 투자원금 | P25: CB | Q25: 미회수 | R25: 핵심운용인력 | S25: 발굴+심사+사후관리
B26: 홍길동 | C26: Fund 10호 | D26: AA운용사 | E26: 중소기업창업투자조합 | F26: Company F | G26: =(L26+N26)/K26 -> #DIV/0! | H26: 바이오
B27: 홍길동 | C27: Fund 10호 | D27: AA운용사 | E27: 중소기업창업투자조합 | F27: Company G | G27: =(L27+N27)/K27 -> #DIV/0! | H27: 게임
F30: =COUNTA(F22:F29) -> 6 | G30: =(L30+N30)/K30 -> 1.4166667 | K30: =SUM(K22:K29) -> 12000 | L30: =SUM(L22:L29) -> 10000 | M30: =SUM(M22:M29) -> 6000 | N30: =SUM(N22:N29) -> 7000
S32: (단위: 백만원, %)
B33: 성명 | C33: 운용펀드 | D33: 운용사 | E33: 투자기구 | F33: 투자기업 | G33: Multiple ((B+C)/A) | H33: 사업분야 | I33: 투자 일자 | J33: 회수 일자 | K33: 투자원금 (A) | L33: 회수금 (B) | M33: 미회수 투자자산 | P33: 투자형태 | Q33: 회수방법 | R33: 투자시 지위 | S33: 투자 역할
M34: 미회수 가치(C) | O34: 가치 산정 근거
B35: 홍길동2 | C35: OO운용사 | D35: Fund 4호 | E35: 신기술사업투자조합 | F35: Company A | G35: =(L35+N35)/K35 -> 1.5 | H35: 바이오 | I35: 36526 | J35: 39813 | K35: 1000 | L35: 0 | M35: 1000 | N35: 1500 | O35: 10,000주*150,000원(KOSDAQ, 2014.12월말 종가) | P35: 보통주 | Q35: IPO | R35: 대표펀드매니저 | S35: 발굴
B36: 홍길동2 | C36: OO운용사 | D36: Fund 4호 | E36: 신기술사업투자조합 | F36: Company B | G36: =(L36+N36)/K36 -> 1.75 | H36: ICT서비스 | I36: 36526 | J36: 39813 | K36: 4000 | L36: 3000 | M36: 2000 | N36: 4000 | O36: 20,000주*200,000원(M&A 내역) | P36: 보통주 | Q36: M&A | R36: 대표펀드매니저 | S36: 심사
B37: 홍길동2 | C37: BB운용사 | D37: Fund 2호 | E37: 중소기업창업투자조합 | F37: Company D | G37: =(L37+N37)/K37 -> 0.625 | H37: 바이오 | I37: 36526 | J37: 39813 | K37: 4000 | L37: 2000 | M37: 2000 | N37: 500 | O37: 감액(감액 사유) | P37: RCPS | Q37: 미회수 | R37: 대표펀드매니저 | S37: 사후관리
B38: 홍길동2 | C38: BB운용사 | D38: Fund 2호 | E38: 중소기업창업투자조합 | F38: Company E | G38: =(L38+N38)/K38 -> 2 | H38: ICT제조 | I38: 36526 | J38: 39813 | K38: 3000 | L38: 5000 | M38: 1000 | N38: 1000 | O38: 투자원금 | P38: CB | Q38: 미회수 | R38: 핵심운용인력 | S38: 심사
G39: =(L39+N39)/K39 -> #DIV/0! | H39: 바이오
G40: =(L40+N40)/K40 -> #DIV/0! | H40: 게임
F43: =COUNTA(F35:F42) -> 4 | G43: =(L43+N43)/K43 -> 1.4166667 | K43: =SUM(K35:K42) -> 12000 | L43: =SUM(L35:L42) -> 10000 | M43: =SUM(M35:M42) -> 6000 | N43: =SUM(N35:N42) -> 7000

Sheet 3-3.핵심운용인력 운용중인펀드
B2: 제안사명 | C2: =표지!$D$4 -> xxx 운용사 | E2: 작성항목 | F2: 3-3. 핵심운용인력 운용중인 펀드
B4: <작성방식>
B5: ■ 공고일 (2016. 9. 19)기준 핵심운용인력별로 운용중인 펀드 기재(청산중인 펀드 포함)
B6: ■ 본 조합(2016 KIF 투자조합) 내역 포함 (성립일, 만기일, 청산예정일, 투자기간, 약정금액 등은 예정내역 기재)
B8: 42632 | O8: (단위: 백만원, %)
B9: 성명 | C9: 핵심인력 구분 | D9: 운용펀드 | E9: 지위 | F9: 성립일 | G9: 만기일 | H9: 청산예정일 | I9: 투자기간 (종료일) | J9: 약정금액 | K9: 의무투자비율 | L9: 투자집행률 | M9: 핵심인력수 | N9: 투자잔액 | O9: LP
B10: 홍길동 | C10: 대표펀드매니저 | D10: Fund 5호 | E10: 대표펀드매니저 | F10: 40179 | G10: 42735 | H10: 42795 | I10: 41639 | J10: 30000 | K10: 0.6 | L10: 0.7 | M10: 3 | N10: =IF(($B$8-I10)>0,0,IF((L10-0.8)>0,0,J10*(0.8-L10)))/M10 -> 0 | O10: OOO, XXX, AAA
D11: Fund 10호 | E11: 핵심운용인력 | F11: 41640 | G11: 44196 | H11: 44317 | I11: 43100 | J11: 40000 | K11: 0.7 | L11: 0.5 | M11: 2 | N11: =IF(($B$8-I11)>0,0,IF((L11-0.8)>0,0,J11*(0.8-L11)))/M11 -> 6000 | O11: BBB, CCC, DDD
D12: 2016 KIF 투자조합 | E12: 대표펀드매니저 | F12: 42705 | G12: 44895 | H12: 44895 | I12: 43799 | J12: 30000 | K12: 0.6 | L12: 0 | M12: 3 | N12: =IF(($B$8-I12)>0,0,IF((L12-0.8)>0,0,J12*(0.8-L12)))/M12 -> 8000
D14: =COUNTA(D10:D13) -> 3 | J14: =SUM(J10:J13) -> 100000 | N14: =SUM(N10:N13) -> 14000
B16: 홍길동2 | C16: 핵심운용인력 | D16: Fund 3호 | E16: 대표펀드매니저 | F16: 40179 | G16: 42735 | H16: 42856 | I16: 41639 | J16: 35000 | K16: 0.6 | L16: 0.7 | M16: 4 | N16: =IF(($B$8-I16)>0,0,IF((L16-0.8)>0,0,J16*(0.8-L16)))/M16 -> 0 | O16: XXX, AAA
D17: Fund 6호 | E17: 핵심운용인력 | F17: 41640 | G17: 44196 | H17: 44317 | I17: 43100 | J17: 30000 | K17: 0.7 | L17: 0.5 | M17: 3 | N17: =IF(($B$8-I17)>0,0,IF((L17-0.8)>0,0,J17*(0.8-L17)))/M17 -> 3000 | O17: OOO, AAA, CCC
D18: Fund 12호 | E18: 핵심운용인력 | F18: 42005 | G18: 44561 | H18: 44682 | I18: 43465 | J18: 40000 | K18: 0.6 | L18: 0.8 | M18: 3 | N18: =IF(($B$8-I18)>0,0,IF((L18-0.8)>0,0,J18*(0.8-L18)))/M18 -> 0
D19: 2016 KIF 투자조합 | E19: 핵심운용인력 | F19: 42705 | G19: 44895 | H19: 44895 | I19: 43799 | J19: 30000 | K19: 0.6 | L19: 0 | M19: 3 | N19: =IF(($B$8-I19)>0,0,IF((L19-0.8)>0,0,J19*(0.8-L19)))/M19 -> 8000
D21: =COUNTA(D16:D20) -> 4 | J21: =SUM(J16:J20) -> 135000 | N21: =SUM(N16:N20) -> 11000
B23: 홍길동3 | C23: 핵심운용인력 | D23: Fund 4호 | E23: 핵심운용인력 | F23: 40179 | G23: 42735 | H23: 42856 | I23: 41639 | J23: 70000 | K23: 0.6 | L23: 0.7 | M23: 3 | N23: =IF(($B$8-I23)>0,0,IF((L23-0.8)>0,0,J23*(0.8-L23)))/M23 -> 0 | O23: AAA, CCC, XXX
D24: Fund 7호 | E24: 핵심운용인력 | F24: 41275 | G24: 43830 | H24: 43952 | I24: 42735 | J24: 35000 | K24: 0.6 | L24: 0.75 | M24: 2 | N24: =IF(($B$8-I24)>0,0,IF((L24-0.8)>0,0,J24*(0.8-L24)))/M24 -> 875 | O24: DDD
D25: Fund 8호 | E25: 핵심운용인력 | F25: 41640 | G25: 44196 | H25: 44317 | I25: 43100 | J25: 30000 | K25: 0.7 | L25: 0.6 | M25: 2 | N25: =IF(($B$8-I25)>0,0,IF((L25-0.8)>0,0,J25*(0.8-L25)))/M25 -> 3000 | O25: DDD, FFF
D26: 2016 KIF 투자조합 | E26: 핵심운용인력 | F26: 42705 | G26: 44895 | H26: 44895 | I26: 43799 | J26: 30000 | K26: 0.6 | L26: 0 | M26: 3 | N26: =IF(($B$8-I26)>0,0,IF((L26-0.8)>0,0,J26*(0.8-L26)))/M26 -> 8000
D28: =COUNTA(D23:D27) -> 4 | J28: =SUM(J23:J27) -> 165000 | N28: =SUM(N23:N27) -> 11875
B30: 합계 | D30: =SUM(D14,D21,D28) -> 11 | J30: =SUM(J14,J21,J28) -> 400000 | M30: =SUM(M14,M21,M28) -> 0 | N30: =SUM(N14,N21,N28) -> 36875
